Workbook

Sheet Ausfüllen
B1: Antrag auf Kostenübernahme eines Tanzprojekts
C2: Antragssteller*in:
C3: Projektname:
B5: KOSTENPLAN | D5: siehe Erläuterungen ab Zeile 36 | E5: ANTRAG
B6: Honorare | D6: Erläuterungen | E6: Betrag
B7: 1
B8: 2
B9: 3
B10: 4
B11: 5
B12: 6
B13: 7
B14: 8
D15: Zwischensumme: | E15: =SUM(E7:E14) -> 0
B16: Sachkosten | D16: Erläuterungen | E16: Betrag
B17: 1
B18: 2
B19: 3
B20: 4
B21: 5
B22: 6
B23: 7
B24: 8
D25: Zwischensumme: | E25: =SUM(E17:E24) -> 0
B26: Reisekosten | D26: Erläuterungen | E26: Betrag
B27: 1
B28: 2
B29: 3
B30: 4
B31: 5
D32: Zwischensumme: | E32: =SUM(E27:E31) -> 0
D34: Gesamtausgaben: | E34: =SUM(E15+E25+E32) -> 0
B36: ERLÄUTERUNGEN:
B37: Bitte in Zeile 3 und 4 Antragssteller*in und Projektname eintragen.
B38: Alle Kosten müssen im Projektzeitraum entstehen.
B39: HONORARE bitte in Stundensätzen à 60 Min. berechnen (Gesamtstunden x € pro Stunde).
B40: Nur direkte SACHKOSTEN des Projekts sind förderwürdig. Also keine fortlaufenden Versicherungen, Raummieten, etc.
B41: Nicht förderwürdige Sachkosten sind Alkohol, Flaschenpfand sowie Repräsentationskosten wie z.B. Premierenblumen, Buffet für Gäste, Geschenke.
B42: FAHRTKOSTEN dürfen nur laut Landesreisekostengesetz NRW erstattet werden.

Sheet Import
A1: Sachkonto Name | B1: Buchungstext | C1: Betrag | D1: Buchungsnotiz | E1: VA_KOOP_ORG | F1: VA_Projektname
A2: Honorar | B2: =TEXT(Ausfüllen!C7,"Standard") -> 0 | C2: =SUM(Ausfüllen!E7) -> 0 | D2: =TEXT(Ausfüllen!D7,"Standard") -> 0 | E2: =TEXT(Ausfüllen!D2,"Standard") -> 0 | F2: =TEXT(Ausfüllen!D3,"Standard") -> 0
A3: Honorar | B3: =TEXT(Ausfüllen!C8,"Standard") -> 0 | C3: =SUM(Ausfüllen!E8) -> 0 | D3: =TEXT(Ausfüllen!D8,"Standard") -> 0
A4: Honorar | B4: =TEXT(Ausfüllen!C9,"Standard") -> 0 | C4: =SUM(Ausfüllen!E9) -> 0 | D4: =TEXT(Ausfüllen!D9,"Standard") -> 0
A5: Honorar | B5: =TEXT(Ausfüllen!C10,"Standard") -> 0 | C5: =SUM(Ausfüllen!E10) -> 0 | D5: =TEXT(Ausfüllen!D10,"Standard") -> 0
A6: Honorar | B6: =TEXT(Ausfüllen!C11,"Standard") -> 0 | C6: =SUM(Ausfüllen!E11) -> 0 | D6: =TEXT(Ausfüllen!D11,"Standard") -> 0
A7: Honorar | B7: =TEXT(Ausfüllen!C12,"Standard") -> 0 | C7: =SUM(Ausfüllen!E12) -> 0 | D7: =TEXT(Ausfüllen!D12,"Standard") -> 0
A8: Honorar | B8: =TEXT(Ausfüllen!C13,"Standard") -> 0 | C8: =SUM(Ausfüllen!E13) -> 0 | D8: =TEXT(Ausfüllen!D13,"Standard") -> 0
A9: Honorar | B9: =TEXT(Ausfüllen!C14,"Standard") -> 0 | C9: =SUM(Ausfüllen!E14) -> 0 | D9: =TEXT(Ausfüllen!D14,"Standard") -> 0
A10: Sachkosten | B10: =TEXT(Ausfüllen!C17,"Standard") -> 0 | C10: =SUM(Ausfüllen!E17) -> 0 | D10: =TEXT(Ausfüllen!D17,"Standard") -> 0
A11: Sachkosten | B11: =TEXT(Ausfüllen!C18,"Standard") -> 0 | C11: =SUM(Ausfüllen!E18) -> 0 | D11: =TEXT(Ausfüllen!D18,"Standard") -> 0
A12: Sachkosten | B12: =TEXT(Ausfüllen!C19,"Standard") -> 0 | C12: =SUM(Ausfüllen!E19) -> 0 | D12: =TEXT(Ausfüllen!D19,"Standard") -> 0
A13: Sachkosten | B13: =TEXT(Ausfüllen!C20,"Standard") -> 0 | C13: =SUM(Ausfüllen!E20) -> 0 | D13: =TEXT(Ausfüllen!D20,"Standard") -> 0
A14: Sachkosten | B14: =TEXT(Ausfüllen!C21,"Standard") -> 0 | C14: =SUM(Ausfüllen!E21) -> 0 | D14: =TEXT(Ausfüllen!D21,"Standard") -> 0
A15: Sachkosten | B15: =TEXT(Ausfüllen!C22,"Standard") -> 0 | C15: =SUM(Ausfüllen!E22) -> 0 | D15: =TEXT(Ausfüllen!D22,"Standard") -> 0
A16: Sachkosten | B16: =TEXT(Ausfüllen!C23,"Standard") -> 0 | C16: =SUM(Ausfüllen!E23) -> 0 | D16: =TEXT(Ausfüllen!D23,"Standard") -> 0
A17: Sachkosten | B17: =TEXT(Ausfüllen!C24,"Standard") -> 0 | C17: =SUM(Ausfüllen!E24) -> 0 | D17: =TEXT(Ausfüllen!D24,"Standard") -> 0
A18: Reisekosten | B18: =TEXT(Ausfüllen!C27,"Standard") -> 0 | C18: =SUM(Ausfüllen!E27) -> 0 | D18: =TEXT(Ausfüllen!D27,"Standard") -> 0
A19: Reisekosten | B19: =TEXT(Ausfüllen!C28,"Standard") -> 0 | C19: =SUM(Ausfüllen!E28) -> 0 | D19: =TEXT(Ausfüllen!D28,"Standard") -> 0
A20: Reisekosten | B20: =TEXT(Ausfüllen!C29,"Standard") -> 0 | C20: =SUM(Ausfüllen!E29) -> 0 | D20: =TEXT(Ausfüllen!D29,"Standard") -> 0
A21: Reisekosten | B21: =TEXT(Ausfüllen!C30,"Standard") -> 0 | C21: =SUM(Ausfüllen!E30) -> 0 | D21: =TEXT(Ausfüllen!D30,"Standard") -> 0
A22: Reisekosten | B22: =TEXT(Ausfüllen!C31,"Standard") -> 0 | C22: =SUM(Ausfüllen!E31) -> 0 | D22: =TEXT(Ausfüllen!D31,"Standard") -> 0
